BEGIN:VCALENDAR
VERSION:2.0
PRODID:-//Commune de Scherwiller - Bas-Rhin - ECPv6.15.12//NONSGML v1.0//EN
CALSCALE:GREGORIAN
METHOD:PUBLISH
X-ORIGINAL-URL:https://scherwiller.fr
X-WR-CALDESC:Évènements pour Commune de Scherwiller - Bas-Rhin
REFRESH-INTERVAL;VALUE=DURATION:PT1H
X-Robots-Tag:noindex
X-PUBLISHED-TTL:PT1H
BEGIN:VTIMEZONE
TZID:Europe/Paris
BEGIN:DAYLIGHT
TZOFFSETFROM:+0100
TZOFFSETTO:+0200
TZNAME:CEST
DTSTART:20240331T010000
END:DAYLIGHT
BEGIN:STANDARD
TZOFFSETFROM:+0200
TZOFFSETTO:+0100
TZNAME:CET
DTSTART:20241027T010000
END:STANDARD
BEGIN:DAYLIGHT
TZOFFSETFROM:+0100
TZOFFSETTO:+0200
TZNAME:CEST
DTSTART:20250330T010000
END:DAYLIGHT
BEGIN:STANDARD
TZOFFSETFROM:+0200
TZOFFSETTO:+0100
TZNAME:CET
DTSTART:20251026T010000
END:STANDARD
BEGIN:DAYLIGHT
TZOFFSETFROM:+0100
TZOFFSETTO:+0200
TZNAME:CEST
DTSTART:20260329T010000
END:DAYLIGHT
BEGIN:STANDARD
TZOFFSETFROM:+0200
TZOFFSETTO:+0100
TZNAME:CET
DTSTART:20261025T010000
END:STANDARD
END:VTIMEZONE
BEGIN:VEVENT
DTSTART;TZID=Europe/Paris:20250920T100000
DTEND;TZID=Europe/Paris:20250921T170000
DTSTAMP:20260425T223803
CREATED:20250813T135656Z
LAST-MODIFIED:20250813T135746Z
UID:34998-1758362400-1758474000@scherwiller.fr
SUMMARY:Les Journées du Patrimoine 2025
DESCRIPTION:Chapelle de l’Alumnat :  \nDécouverte et initiation à la géobiologie – Secrets et mémoire de la Chapelle \n\nSamedi 10h à 12h – 14h à 17h\nDimanche 10h à 13h\n\n  \nChapelle St Wolfgang :  \nHistoire et patrimoine  \n\nSamedi 14h à 17h\nDimanche 14h à 17h
URL:https://scherwiller.fr/event/les-journees-du-patrimoine-2025/
END:VEVENT
END:VCALENDAR