BEGIN:VCALENDAR
VERSION:2.0
PRODID:-//Commune de Scherwiller - Bas-Rhin - ECPv6.15.12//NONSGML v1.0//EN
CALSCALE:GREGORIAN
METHOD:PUBLISH
X-ORIGINAL-URL:https://scherwiller.fr
X-WR-CALDESC:Évènements pour Commune de Scherwiller - Bas-Rhin
REFRESH-INTERVAL;VALUE=DURATION:PT1H
X-Robots-Tag:noindex
X-PUBLISHED-TTL:PT1H
BEGIN:VTIMEZONE
TZID:Europe/Paris
BEGIN:DAYLIGHT
TZOFFSETFROM:+0100
TZOFFSETTO:+0200
TZNAME:CEST
DTSTART:20230326T010000
END:DAYLIGHT
BEGIN:STANDARD
TZOFFSETFROM:+0200
TZOFFSETTO:+0100
TZNAME:CET
DTSTART:20231029T010000
END:STANDARD
BEGIN:DAYLIGHT
TZOFFSETFROM:+0100
TZOFFSETTO:+0200
TZNAME:CEST
DTSTART:20240331T010000
END:DAYLIGHT
BEGIN:STANDARD
TZOFFSETFROM:+0200
TZOFFSETTO:+0100
TZNAME:CET
DTSTART:20241027T010000
END:STANDARD
BEGIN:DAYLIGHT
TZOFFSETFROM:+0100
TZOFFSETTO:+0200
TZNAME:CEST
DTSTART:20250330T010000
END:DAYLIGHT
BEGIN:STANDARD
TZOFFSETFROM:+0200
TZOFFSETTO:+0100
TZNAME:CET
DTSTART:20251026T010000
END:STANDARD
END:VTIMEZONE
BEGIN:VEVENT
DTSTART;TZID=Europe/Paris:20240213T190000
DTEND;TZID=Europe/Paris:20240213T200000
DTSTAMP:20260424T070738
CREATED:20240212T081414Z
LAST-MODIFIED:20240212T081414Z
UID:31213-1707850800-1707854400@scherwiller.fr
SUMMARY:"Inscrire mon enfant dans le cursus bilingue à la rentrée prochaine ?"
DESCRIPTION:Suite à un problème technique sur nos serveurs rencontré en début de live « Inscrire mon enfant en classe bilingue à la rentrée prochaine ? »  ce jeudi 8/02/24\, nous avons été contraints de reporter le rendez-vous à la date du : \nMardi 13 février 2024 à 19h \nAu programme de l’évènement : présentation du cursus bilingue paritaire\, les avantages de cet apprentissage expliqués par notre invitée\, la psycholinguiste Madame Bijeljac-Babic\, et enfin\, un temps d’échange avec les participants. \nLes informations sont disponibles sur le site internet d’Eltern Alsace : https://www.eltern-bilinguisme.org/reunions-en-ligne/ \nLes personnes intéressées peuvent s’inscrire via ce formulaire : https://forms.gle/Wg4YXRA1ZYirbJ9E6 \nLes liens de connexion vers les différents réseaux sociaux seront ensuite envoyés par mail le lundi 12 février. \n20240209 - affiche événement live
URL:https://scherwiller.fr/event/inscrire-mon-enfant-dans-le-cursus-bilingue-a-la-rentree-prochaine/
END:VEVENT
END:VCALENDAR